BEGIN:VCALENDAR
METHOD:PUBLISH
PRODID:digitale-lehre-fau-de//Events//DE
VERSION:2.0
BEGIN:VEVENT
SUMMARY:[DiL kompakt] KI als Co-Creator in der Hochschullehre: KI-gest
 ütztes Feedback und Assessment
UID:040000008200E00074C5B7101A82E008000000003010645F4179DB010000000000
 000000100000007C7ED074DB327042A7C7A733908A1D31
DESCRIPTION:Diese Veranstaltung ist Teil der Seminarreihe „KI als Co
 -Creator“\; jede Veranstaltung kann auch einzeln besucht werden.\n\n
 Das Ziel dieses Seminars ist es\, den Teilnehmenden ein grundlegendes 
 Verständnis für die Nutzung von Künstlicher Intelligenz (KI) als Un
 terstützungswerkzeug für Feedback\, Assessment und Qualitätskontrol
 len in der Hochschullehre zu vermitteln\, um damit die Lernenden in de
 ren Lernprozess besser zu begleiten und zu unterstützen. Die Teilnehm
 enden werden in die Lage versetzt\, KI-Tools als Mittel für interakti
 ves Feedback und zur Entwicklung von Assessmentfragen zu nutzen Ein be
 sonderes Augenmerk wird dabei auf die ethischen Herausforderungen gele
 gt\, die mit dem Einsatz von KI in der Hochschulbildung verbunden sind
 .\n\nIm Laufe des Seminars erhalten die Teilnehmenden die Gelegenheit\
 , verschiedene KI-Konzepte und -Tools durch praktische Übungen zu erp
 roben und deren Anwendungsmöglichkeiten kritisch zu diskutieren.\nMeh
 r Infos und Anmeldung unter:\nhttps://profilehreplus.de/seminare/dil-k
 ompakt-ki-als-co-creator-in-der-hochschullehre-ki-gestuetztes-feedback
 -und-assessment
DTSTART:20250207T090000Z
DTEND:20250207T110000Z
LOCATION:online
DTSTAMP:20260420T033438Z
END:VEVENT
END:VCALENDAR