BEGIN:VCALENDAR
METHOD:PUBLISH
PRODID:digitale-lehre-fau-de//Events//DE
VERSION:2.0
BEGIN:VEVENT
SUMMARY:[DiL] Basiskurs | Konzeption und Methoden für aktivierende di
 gitale Lehre
UID:040000008200E00074C5B7101A82E0080000000020628FCE4179DB010000000000
 0000001000000055DBA876E0CFB6448C4F97076FC153DF
DESCRIPTION:Neu: mit optionaler Transferphase!\n\nIn diesem Seminar er
 halten die Teilnehmer/innen einen Überblick über digitale Lehr-Lern-
 Szenarien und die Einsatzmöglichkeiten von Medien in der Hochschulleh
 re. Es wird gemeinsam erarbeitet\, was unter digitaler Lehre und E-Lea
 rning zu verstehen ist\, welche didaktischen Lehr-/Lernszenarien denkb
 ar und sinnvoll sind\, um selbst entscheiden zu können\, durch welche
  technischen und didaktischen Neuerungen die eigene Lehre sinnvoll ges
 taltet bzw. angereichert werden kann. StudOn (ILIAS) bietet als zentra
 le Lernplattform der FAU den Lehrenden vielfältige Möglichkeiten\, d
 ie eigene Hochschullehre mit digitalen Lernmaterialien zu unterstütze
 n.\n\nDer Kurs ist im Blended Learning Format konzipiert: Die Teilnehm
 enden lernen bereits vor der Veranstaltung im Selbststudium geeignete 
 digitale Werkzeuge in StudOn kennen und erarbeiten sich verschiedene d
 idaktische Einsatzmöglichkeiten. Darüber hinaus bereiten Sie eine Ko
 nzeption für eine eigene digitale Lehrveranstaltung vor.\n\nBlended L
 earning Kurs\nvorgeschaltete Online-Selbstlernphase + Live-Online-Vera
 nstaltung (via Zoom)\, Sie erhalten die Zugangsdaten bis einen Tag vor
  Veranstaltungsbeginn\nPräsenzveranstaltung am 18.03. ILI der FAU\nDr
 .-Mack-Str. 77\, 90762 Fürth\nTechnikum 2\, III. OG\, Raum 4.34 Zusä
 tzlich optionale Teilnahme bis 16:00\n\nAnmeldung unter:\nhttps://prof
 ilehreplus.de/seminare/dil-basiskurs-konzeption-und-methoden-fuer-akti
 vierende-digitale-lehre-2
DTSTART:20250318T133000Z
DTEND:20250318T150000Z
LOCATION:Fürth
DTSTAMP:20260420T032947Z
END:VEVENT
END:VCALENDAR