BEGIN:VCALENDAR
METHOD:PUBLISH
PRODID:digitale-lehre-fau-de//Events//DE
VERSION:2.0
BEGIN:VEVENT
SUMMARY:[DiL kompakt] Open Educational Ressources (OER) in der eigenen
  Lehre einsetzen
UID:040000008200E00074C5B7101A82E008000000004005EFD64379DB010000000000
 000000100000006DEE3BE88891E948960CE84F423D0169
DESCRIPTION:Bereits existierende Multimedia-Anwendungen\, Lehrpläne\,
  Kursmaterialien\, Lehrbücher\, Lernfilme\,  Podcasts u.v.m. können 
 frei in der eigenen Lehre verwendet werden\, wenn sie unter einer offe
 nen Lizenz veröffentlicht werden. Es handelt sich dann um sogenannte 
 Open Educational Resources (OER)\, die mehr oder weniger frei verwende
 t und angepasst werden können.\nMehr Infos und Anmeldung unter:\nhttp
 s://profilehreplus.de/seminare/dil-kompakt-open-educational-ressources
 -oer-in-der-eigenen-lehre-einsetzen
DTSTART:20250722T080000Z
DTEND:20250722T100000Z
LOCATION:online
DTSTAMP:20260420T115753Z
END:VEVENT
END:VCALENDAR